BEGIN:VCALENDAR
VERSION:2.0
PRODID:-//X100.1 - ECPv5.6.0//NONSGML v1.0//EN
CALSCALE:GREGORIAN
METHOD:PUBLISH
X-WR-CALNAME:X100.1
X-ORIGINAL-URL:https://www.x1001.fm
X-WR-CALDESC:Events for X100.1
BEGIN:VTIMEZONE
TZID:America/Chicago
BEGIN:DAYLIGHT
TZOFFSETFROM:-0600
TZOFFSETTO:-0500
TZNAME:CDT
DTSTART:20260308T080000
END:DAYLIGHT
BEGIN:STANDARD
TZOFFSETFROM:-0500
TZOFFSETTO:-0600
TZNAME:CST
DTSTART:20261101T070000
END:STANDARD
END:VTIMEZONE
BEGIN:VEVENT
DTSTART;TZID=America/Chicago:20260422T183000
DTEND;TZID=America/Chicago:20260422T203000
DTSTAMP:20260422T034728
CREATED:20260313T163033Z
LAST-MODIFIED:20260316T221835Z
UID:83502-1776882600-1776889800@www.x1001.fm
SUMMARY:Sevendust One Tour
DESCRIPTION:SEVENDUST ONE TOUR\n\n\nWednesday April 22\nDOORS 6:00 pm\nSTARTS 6:30 pm\nAGES All Ages
URL:https://www.x1001.fm/event/sevendust-one-tour/
LOCATION:Iron City
CATEGORIES:Event
ATTACH;FMTTYPE=image/png:https://dehayf5mhw1h7.cloudfront.net/wp-content/uploads/sites/2283/2026/03/13163033/sevendust-local-admat.png
END:VEVENT
BEGIN:VEVENT
DTSTART;TZID=America/Chicago:20260726T190000
DTEND;TZID=America/Chicago:20260726T213000
DTSTAMP:20260422T034728
CREATED:20260324T140059Z
LAST-MODIFIED:20260324T140103Z
UID:83570-1785092400-1785101400@www.x1001.fm
SUMMARY:Coheed & Cambria "This Is Our War Tour"
DESCRIPTION:Get ready to see Coheed & Cambria for the “This Is Our War Tour” with special guests Narrow Head on Sunday\, July 26\, 2026 at Avondale Brewing Company.
URL:https://www.x1001.fm/event/coheed-cambria-this-is-our-war-tour/
LOCATION:Avondale Brewing\, 201 41st Street South \, Birmingham 
CATEGORIES:Event
ATTACH;FMTTYPE=image/jpeg:https://dehayf5mhw1h7.cloudfront.net/wp-content/uploads/sites/2283/2026/03/23124740/static_social-facebook_1200x630_coheedandcambria_2026_regional_avondalebrewingcompany_0726.jpg
END:VEVENT
BEGIN:VEVENT
DTSTART;TZID=America/Chicago:20260918T190000
DTEND;TZID=America/Chicago:20260918T210000
DTSTAMP:20260422T034728
CREATED:20260323T204324Z
LAST-MODIFIED:20260323T204324Z
UID:83578-1789758000-1789765200@www.x1001.fm
SUMMARY:Sublime Concert
DESCRIPTION:
URL:https://www.x1001.fm/event/sublime-concert/
LOCATION:Mercedes-Benz Amphitheater\, 2710 Jack Warner Pkwy\, Tuscaloosa\, AL\, 35401\, United States
CATEGORIES:Event
ATTACH;FMTTYPE=image/jpeg:https://dehayf5mhw1h7.cloudfront.net/wp-content/uploads/sites/2283/2026/03/23153726/sublime_yelawolf_codefendants_2026_al_1200x628.jpg
END:VEVENT
BEGIN:VEVENT
DTSTART;TZID=America/Chicago:20261016T180000
DTEND;TZID=America/Chicago:20261016T210000
DTSTAMP:20260422T034728
CREATED:20260217T175549Z
LAST-MODIFIED:20260217T175549Z
UID:83346-1792173600-1792184400@www.x1001.fm
SUMMARY:Breaking Benjamin Live
DESCRIPTION:  \n\n\n\nMulti-platinum rock powerhouse Breaking Benjamin announced their massive 2026 North American tour with support from Chevelle and Starset\, and they are coming to Mercedes-Benz Amphitheater in Tuscaloosa on Friday\, October 16th!\n\nKnown for their explosive live performances and a catalog packed with era-defining rock anthems\, Breaking Benjamin continue to be one of the leading forces in modern rock. The 2026 tour will bring the band to amphitheaters and arenas nationwide\, delivering fan-favorite hits in major cities including Denver\, Las Vegas\, Anaheim\, Fort Worth and more!\n\n\n\nGrab your tickets today!
URL:https://www.x1001.fm/event/breaking-benjamin-live/
LOCATION:Mercedes-Benz Amphitheater\, 2710 Jack Warner Pkwy\, Tuscaloosa\, AL\, 35401\, United States
CATEGORIES:Event
ATTACH;FMTTYPE=image/png:https://dehayf5mhw1h7.cloudfront.net/wp-content/uploads/sites/2283/2026/02/17115536/screenshot-2026-02-17-at-11-44-49-am.png
END:VEVENT
END:VCALENDAR